BEGIN:VCALENDAR
VERSION:2.0
PRODID:Campbell Jones Property (Bowral) Open for Inspection - In Town Unit
BEGIN:VTIMEZONE
TZID:Australia/Melbourne
BEGIN:STANDARD
DTSTART:20210302T114500
TZOFFSETTO:+1100
TZNAME:GMT+11
END:STANDARD
END:VTIMEZONE
BEGIN:VEVENT
UID:603a2e5366cc4
DTSTART;TZID=Australia/Melbourne:20210302T114500
SEQUENCE:0
TRANSP:OPAQUE
DTEND;TZID=Australia/Melbourne:20210302T120000
LOCATION:3/42 Old Hume Highway Mittagong NSW
SUMMARY:Campbell Jones Property (Bowral) Open for Inspection - 3/42 Old
 Hume Highway Mittagong NSW
CLASS:PUBLIC
DESCRIPTION:Open for Inspection: 3/42 Old Hume Highway Mittagong NSW
 Tuesday 2nd Mar 11:45am - 12:00pm Click the link for full listing
 information:
 https://www.cjpbowral.com.au/lease/nsw/southern-highlands/mittagong/residential/unit/6313630
DTSTAMP:20210227T113443
END:VEVENT
END:VCALENDAR